BEGIN:VCALENDAR
VERSION:2.0
PRODID:-//Propel Pottsboro 2045 - ECPv6.10.2//NONSGML v1.0//EN
CALSCALE:GREGORIAN
METHOD:PUBLISH
X-WR-CALNAME:Propel Pottsboro 2045
X-ORIGINAL-URL:https://www.propelpottsboro.org
X-WR-CALDESC:Events for Propel Pottsboro 2045
REFRESH-INTERVAL;VALUE=DURATION:PT1H
X-Robots-Tag:noindex
X-PUBLISHED-TTL:PT1H
BEGIN:VTIMEZONE
TZID:America/Chicago
BEGIN:DAYLIGHT
TZOFFSETFROM:-0600
TZOFFSETTO:-0500
TZNAME:CDT
DTSTART:20260308T080000
END:DAYLIGHT
BEGIN:STANDARD
TZOFFSETFROM:-0500
TZOFFSETTO:-0600
TZNAME:CST
DTSTART:20261101T070000
END:STANDARD
END:VTIMEZONE
BEGIN:VEVENT
DTSTART;TZID=America/Chicago:20260121T110000
DTEND;TZID=America/Chicago:20260121T120000
DTSTAMP:20260421T135346
CREATED:20260102T202329Z
LAST-MODIFIED:20260121T131402Z
UID:5029-1768993200-1768996800@www.propelpottsboro.org
SUMMARY:Advisory Committee Meeting
DESCRIPTION:Objectives\n\nDiscuss Propel Pottsboro Comprehensive Plan updates\nReview draft policies and recommendations\nDiscuss gaps and identify next steps\n\nAgenda\n\nProject Status Overview\n\nSummary of completed milestones and data collection\nStatus of current drafting phase\n\n\nComprehensive Plan Review\nGap Analysis and Collaborative Discussion\n\nIdentification of areas requiring additional detail or input\n\n\nRevised Project Completion Plan\n\nAlignment on key milestones and the finalization schedule\n\n\nSchedule and Next Steps
URL:https://www.propelpottsboro.org/event/advisory-committee-meeting-2/
LOCATION:Pottsboro City Hall\, 528 FM 120\, Pottsboro\, TX\, 75076\, United States
CATEGORIES:Advisory Committee
END:VEVENT
END:VCALENDAR