BEGIN:VCALENDAR
VERSION:2.0
PRODID:-//Propel Pottsboro 2045 - ECPv6.10.2//NONSGML v1.0//EN
CALSCALE:GREGORIAN
METHOD:PUBLISH
X-ORIGINAL-URL:https://www.propelpottsboro.org
X-WR-CALDESC:Events for Propel Pottsboro 2045
REFRESH-INTERVAL;VALUE=DURATION:PT1H
X-Robots-Tag:noindex
X-PUBLISHED-TTL:PT1H
BEGIN:VTIMEZONE
TZID:America/Chicago
BEGIN:DAYLIGHT
TZOFFSETFROM:-0600
TZOFFSETTO:-0500
TZNAME:CDT
DTSTART:20250309T080000
END:DAYLIGHT
BEGIN:STANDARD
TZOFFSETFROM:-0500
TZOFFSETTO:-0600
TZNAME:CST
DTSTART:20251102T070000
END:STANDARD
END:VTIMEZONE
BEGIN:VEVENT
DTSTART;TZID=America/Chicago:20250403T180000
DTEND;TZID=America/Chicago:20250403T193000
DTSTAMP:20260422T045938
CREATED:20250225T154852Z
LAST-MODIFIED:20250402T180336Z
UID:4987-1743703200-1743708600@www.propelpottsboro.org
SUMMARY:Public Meeting
DESCRIPTION:Pottsboro’s Future Begins with YOU\n \nWe want to make sure everybody has an opportunity to share ideas on shaping the future of Pottsboro. Join us for a public meeting on Thursday\, April 3rd\, from 6:00 PM to 7:30 PM at Pottsboro Church of Christ (522 W. FM 120). \nWhat You Can Expect at this Public Meeting\n\nCome-and-Go Format\nStop by for a short presentation to learn more about the Propel Pottsboro 2045 project and leave at your convenience.\nVision and Goals\nShare your thoughts on the draft vision and goals for the Propel Pottsboro 2045 so we can confirm that we can confirm they align with the community’s desires.\nHands-On Activities\nParticipate in engaging exercises to share input on community objectives\, issues\, concerns\, and opportunities.
URL:https://www.propelpottsboro.org/event/public-meeting/
LOCATION:Pottsboro Church of Christ\, 522 FM 120\, Pottsboro\, TX\, 75076\, United States
CATEGORIES:Public
ATTACH;FMTTYPE=image/png:https://www.propelpottsboro.org/wp-content/uploads/2025/02/2025.04.03-Public-Meeting_FB-event-image_1920x1005.png
END:VEVENT
END:VCALENDAR