BEGIN:VCALENDAR
VERSION:2.0
PRODID:-//Propel Pottsboro 2045 - ECPv6.10.2//NONSGML v1.0//EN
CALSCALE:GREGORIAN
METHOD:PUBLISH
X-ORIGINAL-URL:https://www.propelpottsboro.org
X-WR-CALDESC:Events for Propel Pottsboro 2045
REFRESH-INTERVAL;VALUE=DURATION:PT1H
X-Robots-Tag:noindex
X-PUBLISHED-TTL:PT1H
BEGIN:VTIMEZONE
TZID:America/Chicago
BEGIN:DAYLIGHT
TZOFFSETFROM:-0600
TZOFFSETTO:-0500
TZNAME:CDT
DTSTART:20260308T080000
END:DAYLIGHT
BEGIN:STANDARD
TZOFFSETFROM:-0500
TZOFFSETTO:-0600
TZNAME:CST
DTSTART:20261101T070000
END:STANDARD
END:VTIMEZONE
BEGIN:VEVENT
DTSTART;TZID=America/Chicago:20260302T173000
DTEND;TZID=America/Chicago:20260302T183000
DTSTAMP:20260421T135939
CREATED:20260202T192713Z
LAST-MODIFIED:20260221T192832Z
UID:5044-1772472600-1772476200@www.propelpottsboro.org
SUMMARY:City Council Presentation and Public Hearing
DESCRIPTION:Presentation\, public hearing\, and action regarding adoption by the City Council of the Propel Pottsboro 2045 Comprehensive Plan for adoption. \nTo view the draft plan\, visit this link. \n 
URL:https://www.propelpottsboro.org/event/city-council-presentation-and-public-hearing/
LOCATION:Pottsboro City Hall\, 528 FM 120\, Pottsboro\, TX\, 75076\, United States
CATEGORIES:Public Hearing
END:VEVENT
BEGIN:VEVENT
DTSTART;TZID=America/Chicago:20260223T173000
DTEND;TZID=America/Chicago:20260223T183000
DTSTAMP:20260421T135939
CREATED:20260202T192143Z
LAST-MODIFIED:20260221T192850Z
UID:5042-1771867800-1771871400@www.propelpottsboro.org
SUMMARY:Planning & Zoning Commission Presentation and Public Hearing
DESCRIPTION:Presentation\, public hearing\, and action regarding recommendation to City Council of the Propel Pottsboro 2045 Comprehensive Plan for adoption. \nTo view the draft plan\, visit this link.
URL:https://www.propelpottsboro.org/event/planning-zoning-commission-presentation-and-public-hearing/
LOCATION:Pottsboro City Hall\, 528 FM 120\, Pottsboro\, TX\, 75076\, United States
CATEGORIES:Public Hearing
END:VEVENT
END:VCALENDAR